BEGIN:VCALENDAR
VERSION:2.0
PRODID:-//eventon.com NONSGML v1.0//EN
CALSCALE:GREGORIAN
METHOD:PUBLISH
BEGIN:VEVENT
UID:69e8b54b216a1
DTSTAMP:20260422T114723Z
DTSTART:20260423T190000Z
DTEND:20260423T230000Z
LOCATION:Oregon Coast Aquarium 2820 SE Ferry Slip Rd\,  Newport\,  OR
SUMMARY:Countdown Event
DESCRIPTION:Countdown Event\nhttps://addons.myeventon.com/events/countdown-
 event/
URL:https://addons.myeventon.com/events/countdown-event/
END:VEVENT
END:VCALENDAR