BEGIN:VCALENDAR
VERSION:2.0
PRODID:-//eventon.com NONSGML v1.0//EN
CALSCALE:GREGORIAN
METHOD:PUBLISH
BEGIN:VEVENT
UID:69e8de5f2129a
DTSTAMP:20260422T144239Z
DTSTART:20260410T190000Z
DTEND:20260411T040000Z
LOCATION:TechSphere Conference Center 123 Innovation Drive\,  Portland\,  OR 97205\,  USA
SUMMARY:Event with speakers and schedule
DESCRIPTION:Join us at TechSphere Summit 2025\,  where leading minds in tec
 hnology and innovation gather to discuss the future of tech. Dive into insi
 ghtful sessions\,  network with industry pioneers\,  and explore the latest
  trends in AI\,  blockchain\,  and more.\nhttps://addons.myeventon.com/even
 ts/event-with-speakers-and-schedule/
URL:https://addons.myeventon.com/events/event-with-speakers-and-schedule/
END:VEVENT
END:VCALENDAR