BEGIN:VCALENDAR
VERSION:2.0
PRODID:-//eventon.com NONSGML v1.0//EN
CALSCALE:GREGORIAN
METHOD:PUBLISH
BEGIN:VEVENT
UID:69e8c9a0dc237
DTSTAMP:20260422T131408Z
DTSTART:20260412T190000Z
DTEND:20260412T190000Z
LOCATION:Harmony Wellness Studio 3220 NW 185th Ave #100\,  Portland\,  OR 97229
SUMMARY:Event with Reviews
DESCRIPTION:Join us for a rejuvenating Sunrise Vinyasa Yoga class designed 
 to energize your body and calm your mind. This class is perfect for all lev
 els\,  focusing on breath\,  flow\,  and mindfulness. Start your day with a
  refreshing yoga session in a serene environment.\nhttps://addons.myeventon
 .com/events/event-with-reviews/
URL:https://addons.myeventon.com/events/event-with-reviews/
END:VEVENT
END:VCALENDAR