BEGIN:VCALENDAR
VERSION:2.0
PRODID:-//eventon.com NONSGML v1.0//EN
CALSCALE:GREGORIAN
METHOD:PUBLISH
BEGIN:VEVENT
UID:69e8c9b01fd5d
DTSTAMP:20260422T131424Z
DTSTART:20260519T190000Z
DTEND:20260519T200000Z
LOCATION:Oregon Coast Aquarium 2820 SE Ferry Slip Rd\,  Newport\,  OR
SUMMARY:Event in Future Month
DESCRIPTION:Event in Future Month\nhttps://addons.myeventon.com/events/even
 t-in-future-month/
URL:https://addons.myeventon.com/events/event-in-future-month/
END:VEVENT
END:VCALENDAR