BEGIN:VCALENDAR
VERSION:2.0
PRODID:-//eventon.com NONSGML v1.0//EN
CALSCALE:GREGORIAN
METHOD:PUBLISH
BEGIN:VEVENT
UID:69e8b53c91583
DTSTAMP:20260422T114708Z
DTSTART:20260422T210000Z
DTEND:20260423T030000Z
LOCATION:Green Haven Community Center 123 Nature Lane\,  Eugene\,  OR 97401
SUMMARY:RSVP Event: Permaculture Gardening Workshop
DESCRIPTION:Join us for an immersive workshop on permaculture gardening. Le
 arn sustainable practices for growing your own food and transforming your s
 pace into a thriving ecosystem. Perfect for garden enthusiasts and beginner
 s alike. RSVP is required as spaces are limited.\nhttps://addons.myeventon.
 com/events/rsvp-event/
URL:https://addons.myeventon.com/events/rsvp-event/
END:VEVENT
END:VCALENDAR