BEGIN:VCALENDAR
VERSION:2.0
PRODID:-//eventon.com NONSGML v1.0//EN
CALSCALE:GREGORIAN
METHOD:PUBLISH
BEGIN:VEVENT
UID:69e8b541295a8
DTSTAMP:20260422T114713Z
DTSTART:20260429T190000Z
DTEND:20260429T200000Z
LOCATION:Online
SUMMARY:Ticket Variations
DESCRIPTION:Ticket Variations\nhttps://addons.myeventon.com/events/ticket-v
 ariations/
URL:https://addons.myeventon.com/events/ticket-variations/
END:VEVENT
END:VCALENDAR