BEGIN:VCALENDAR
VERSION:2.0
PRODID:-//eventon.com NONSGML v1.0//EN
CALSCALE:GREGORIAN
METHOD:PUBLISH
BEGIN:VEVENT
UID:69e8b54181bac
DTSTAMP:20260422T114713Z
DTSTART:20260418T190000Z
DTEND:20260430T110000Z
LOCATION:http://zoom.com/r4389983hf9h34
SUMMARY:Booking Event
DESCRIPTION:Booking Event\nhttps://addons.myeventon.com/events/booking-even
 t/var/event_access
URL:https://addons.myeventon.com/events/booking-event/var/event_access
END:VEVENT
END:VCALENDAR