BEGIN:VCALENDAR
VERSION:2.0
PRODID:-//eventon.com NONSGML v1.0//EN
CALSCALE:GREGORIAN
METHOD:PUBLISH
BEGIN:VEVENT
UID:69e8b54b6ad08
DTSTAMP:20260422T114723Z
DTSTART:20260427T180000Z
DTEND:20260427T190000Z
LOCATION:Oregon Coast Aquarium 2820 SE Ferry Slip Rd\,  Newport\,  OR
SUMMARY:Tickets Event
DESCRIPTION:Tickets Event\nhttps://addons.myeventon.com/events/tickets-even
 t/
URL:https://addons.myeventon.com/events/tickets-event/
END:VEVENT
END:VCALENDAR