BEGIN:VCALENDAR
VERSION:2.0
PRODID:-//eventon.com NONSGML v1.0//EN
CALSCALE:GREGORIAN
METHOD:PUBLISH
BEGIN:VEVENT
UID:69e8dd23d9a85
DTSTAMP:20260422T143723Z
DTSTART:20260403T235000Z
DTEND:20260404T005000Z
LOCATION:Online
SUMMARY:Event with Polls
DESCRIPTION:Learn to craft herbal medicines from kitchen ingredients! Join 
 our interactive workshop. A poll on the event card asks\,  “Which remedy 
 for an illness interests you most?” (e.g.\,  Ginger Tea for Nausea\,  Hon
 ey-Lemon for Sore Throat)\,  tailoring content to attendees’ preferences.
 \nhttps://addons.myeventon.com/events/event-with-polls/
URL:https://addons.myeventon.com/events/event-with-polls/
END:VEVENT
END:VCALENDAR