BEGIN:VCALENDAR
VERSION:2.0
PRODID:-//eventon.com NONSGML v1.0//EN
CALSCALE:GREGORIAN
METHOD:PUBLISH
BEGIN:VEVENT
UID:69e8b53c1ebac
DTSTAMP:20260422T114708Z
DTSTART:20260425T170000Z
DTEND:20260425T210000Z
LOCATION:Chinook Winds Casino Resort 1777 NW 44th St\,  Lincoln City\,  OR 97367
SUMMARY:Ticket Dynamic Pricing
DESCRIPTION:Ticket Dynamic Pricing\nhttps://addons.myeventon.com/events/tic
 ket-dynamic-pricing/
URL:https://addons.myeventon.com/events/ticket-dynamic-pricing/
END:VEVENT
END:VCALENDAR